{
 "currentVersion": 11.4,
 "serviceDescription": "ImageServices/CV_VesselActivity_2012",
 "name": "ImageServices/CV_VesselActivity_2012",
 "description": "",
 "extent": {
  "xmin": 1528404.7531000003,
  "ymin": -239340.9763999991,
  "xmax": 2479904.7531000003,
  "ymax": 976759.0236000009,
  "spatialReference": {
   "wkid": 102008,
   "latestWkid": 102008
  }
 },
 "initialExtent": {
  "xmin": 1528404.7531000003,
  "ymin": -239340.9763999991,
  "xmax": 2479904.7531000003,
  "ymax": 976759.0236000009,
  "spatialReference": {
   "wkid": 102008,
   "latestWkid": 102008
  }
 },
 "fullExtent": {
  "xmin": 1528404.7531000003,
  "ymin": -239340.9763999991,
  "xmax": 2479904.7531000003,
  "ymax": 976759.0236000009,
  "spatialReference": {
   "wkid": 102008,
   "latestWkid": 102008
  }
 },
 "sortableFields": "",
 "bandCount": 1,
 "pixelType": "F32",
 "minValues": [
  0
 ],
 "maxValues": [
  744.2567749023438
 ],
 "meanValues": [
  0.02422995432231391
 ],
 "stdvValues": [
  0.8887567233839134
 ],
 "hasMultidimensions": false,
 "pixelSizeX": 100,
 "pixelSizeY": 100,
 "meanPixelSize": 100,
 "datasetFormat": "FGDBR",
 "uncompressedSize": 462847660,
 "blockWidth": 128,
 "blockHeight": 128,
 "compressionType": "LZ77",
 "bandNames": [
  "Band_1"
 ],
 "allowCopy": true,
 "allowAnalysis": true,
 "itemAccess": false,
 "inspectionCapabilities": "",
 "minPixelSize": 0,
 "maxPixelSize": 0,
 "copyrightText": "",
 "serviceDataType": "esriImageServiceDataTypeGeneric",
 "serviceSourceType": "esriImageServiceSourceTypeDataset",
 "objectIdField": "",
 "fields": [],
 "capabilities": "Image,Metadata,Mensuration",
 "defaultMosaicMethod": "Center",
 "allowedMosaicMethods": "",
 "sortField": "",
 "sortValue": null,
 "sortAscending": true,
 "mosaicOperator": "First",
 "defaultCompressionQuality": 75,
 "defaultResamplingMethod": "Bilinear",
 "maxImageHeight": 4100,
 "maxImageWidth": 15000,
 "allowRasterFunction": true,
 "rasterFunctionInfos": [
  {
   "name": "Vessel Activity 2012",
   "description": "Vessel Activity of CV",
   "help": ""
  },
  {
   "name": "Recreational Boater Route Density",
   "description": "Recreational Boater Activity for CV",
   "help": ""
  },
  {
   "name": "None",
   "description": "",
   "help": ""
  }
 ],
 "rasterTypeInfos": [
  {
   "name": "Raster Dataset",
   "description": "Supports all ArcGIS Raster Datasets",
   "help": ""
  }
 ],
 "mensurationCapabilities": "Basic",
 "hasHistograms": true,
 "hasColormap": false,
 "hasRasterAttributeTable": false,
 "minScale": 0,
 "maxScale": 0,
 "exportTilesAllowed": false,
 "supportsStatistics": false,
 "supportsAdvancedQueries": false,
 "editFieldsInfo": null,
 "ownershipBasedAccessControlForRasters": null,
 "allowComputeTiePoints": false,
 "useStandardizedQueries": true,
 "advancedQueryCapabilities": {
  "useStandardizedQueries": true,
  "supportsStatistics": false,
  "supportsOrderBy": false,
  "supportsDistinct": false,
  "supportsPagination": false
 },
 "spatialReference": {
  "wkid": 102008,
  "latestWkid": 102008
 }
}
