{ "currentVersion": 11.4, "serviceDescription": "
Dataset created using \"Mosaic to new Raster\" and combining Regional_DOQs_92, Regional_DOQs_95, and Regional_DOQs_98 mosaic datasets (in that order so that the 98 data overwrites the others).<\/SPAN><\/P><\/DIV><\/DIV>",
"name": "ImageServices/NH_DOQs_92_98",
"description": " Dataset created using \"Mosaic to new Raster\" and combining Regional_DOQs_92, Regional_DOQs_95, and Regional_DOQs_98 mosaic datasets (in that order so that the 98 data overwrites the others).<\/SPAN><\/P><\/DIV><\/DIV>",
"extent": {
"xmin": 743756.9310000022,
"ymin": 68362.69600000558,
"xmax": 1280065.9099999988,
"ymax": 1025817.5539999992,
"spatialReference": {
"wkid": 102710,
"latestWkid": 3437
}
},
"initialExtent": {
"xmin": 743756.9310000022,
"ymin": 68362.69600000558,
"xmax": 1280065.9099999988,
"ymax": 1025817.5539999992,
"spatialReference": {
"wkid": 102710,
"latestWkid": 3437
}
},
"fullExtent": {
"xmin": 743756.9310000022,
"ymin": 68362.69600000558,
"xmax": 1280065.9099999988,
"ymax": 1025817.5539999992,
"spatialReference": {
"wkid": 102710,
"latestWkid": 3437
}
},
"sortableFields": "",
"bandCount": 1,
"pixelType": "U8",
"minValues": [
0
],
"maxValues": [
255
],
"meanValues": [
102.9596877954847
],
"stdvValues": [
39.61700138845594
],
"hasMultidimensions": false,
"pixelSizeX": 3.280999999999979,
"pixelSizeY": 3.280999999999978,
"meanPixelSize": 1.0000508001015938,
"datasetFormat": "FGDBR",
"uncompressedSize": 47700278462,
"blockWidth": 128,
"blockHeight": 128,
"compressionType": "LZ77",
"bandNames": [
"Band_1"
],
"allowCopy": true,
"allowAnalysis": true,
"itemAccess": false,
"inspectionCapabilities": "",
"minPixelSize": 0,
"maxPixelSize": 0,
"copyrightText": "",
"serviceDataType": "esriImageServiceDataTypeGeneric",
"serviceSourceType": "esriImageServiceSourceTypeDataset",
"objectIdField": "",
"fields": [],
"capabilities": "Image,Metadata,Mensuration",
"defaultMosaicMethod": "Center",
"allowedMosaicMethods": "",
"sortField": "",
"sortValue": null,
"sortAscending": true,
"mosaicOperator": "First",
"defaultCompressionQuality": 75,
"defaultResamplingMethod": "Bilinear",
"maxImageHeight": 4100,
"maxImageWidth": 15000,
"allowRasterFunction": true,
"rasterFunctionInfos": [
{
"name": "None",
"description": "",
"help": ""
}
],
"rasterTypeInfos": [
{
"name": "Raster Dataset",
"description": "Supports all ArcGIS Raster Datasets",
"help": ""
}
],
"mensurationCapabilities": "Basic",
"hasHistograms": true,
"hasColormap": false,
"hasRasterAttributeTable": false,
"minScale": 0,
"maxScale": 0,
"exportTilesAllowed": false,
"supportsStatistics": false,
"supportsAdvancedQueries": false,
"editFieldsInfo": null,
"ownershipBasedAccessControlForRasters": null,
"allowComputeTiePoints": false,
"useStandardizedQueries": true,
"advancedQueryCapabilities": {
"useStandardizedQueries": true,
"supportsStatistics": false,
"supportsOrderBy": false,
"supportsDistinct": false,
"supportsPagination": false
},
"spatialReference": {
"wkid": 102710,
"latestWkid": 3437
}
}