{
 "currentVersion": 11.4,
 "serviceDescription": "ImageServices/NH_NAIP_2018_CIR",
 "name": "ImageServices/NH_NAIP_2018_CIR",
 "description": "",
 "extent": {
  "xmin": 741950.5886259973,
  "ymin": 66787.973949951,
  "xmax": 1281370.769625971,
  "ymax": 1027236.8404499041,
  "spatialReference": {
   "wkid": 103104,
   "latestWkid": 6525,
   "vcsWkid": 105703,
   "latestVcsWkid": 6360
  }
 },
 "initialExtent": {
  "xmin": 741950.5886259973,
  "ymin": 66787.973949951,
  "xmax": 1281370.769625971,
  "ymax": 1027236.8404499041,
  "spatialReference": {
   "wkid": 103104,
   "latestWkid": 6525,
   "vcsWkid": 105703,
   "latestVcsWkid": 6360
  }
 },
 "fullExtent": {
  "xmin": 741950.5886259973,
  "ymin": 66787.973949951,
  "xmax": 1281370.769625971,
  "ymax": 1027236.8404499041,
  "spatialReference": {
   "wkid": 103104,
   "latestWkid": 6525,
   "vcsWkid": 105703,
   "latestVcsWkid": 6360
  }
 },
 "sortableFields": "",
 "heightModelInfo": {
  "heightModel": "gravity_related_height",
  "vertCRS": "NAVD_1988_Foot_US",
  "heightUnit": "us-foot"
 },
 "bandCount": 4,
 "pixelType": "U8",
 "minValues": [
  0,
  0,
  0,
  0
 ],
 "maxValues": [
  255,
  255,
  255,
  255
 ],
 "meanValues": [
  58.69902789804,
  73.796226866526,
  58.907349511278,
  86.150448916083
 ],
 "stdvValues": [
  60.3822083622,
  71.170462403295,
  56.793777620196,
  86.152573044492
 ],
 "hasMultidimensions": false,
 "pixelSizeX": 1.9684999999999044,
 "pixelSizeY": 1.9684999999999038,
 "meanPixelSize": 0.5999999999999709,
 "datasetFormat": "IMAGINE Image",
 "uncompressedSize": 534799006536,
 "blockWidth": 64,
 "blockHeight": 64,
 "compressionType": "None",
 "bandNames": [
  "Layer_1",
  "Layer_2",
  "Layer_3",
  "Layer_4"
 ],
 "allowCopy": true,
 "allowAnalysis": true,
 "itemAccess": false,
 "inspectionCapabilities": "",
 "noDataValue": 256,
 "noDataValues": [
  256,
  256,
  256,
  256
 ],
 "minPixelSize": 0,
 "maxPixelSize": 0,
 "copyrightText": "",
 "serviceDataType": "esriImageServiceDataTypeGeneric",
 "serviceSourceType": "esriImageServiceSourceTypeDataset",
 "objectIdField": "",
 "fields": [],
 "capabilities": "Image,Metadata,Mensuration",
 "defaultMosaicMethod": "Center",
 "allowedMosaicMethods": "",
 "sortField": "",
 "sortValue": null,
 "sortAscending": true,
 "mosaicOperator": "First",
 "defaultCompressionQuality": 75,
 "defaultResamplingMethod": "Bilinear",
 "maxImageHeight": 4100,
 "maxImageWidth": 15000,
 "allowRasterFunction": true,
 "rasterFunctionInfos": [
  {
   "name": "NH 2018 NAIP CIR",
   "description": "NH 2018 NAIP CIR",
   "help": ""
  },
  {
   "name": "CIR_Default",
   "description": "CIR Color",
   "help": ""
  },
  {
   "name": "NH 2003 NAIP RGB",
   "description": "NH 2003 NAIP RGB",
   "help": ""
  },
  {
   "name": "NH 2009 NAIP RGB",
   "description": "NH 2009 NAIP RGB",
   "help": ""
  },
  {
   "name": "NH 2010 2011 1ft CIR",
   "description": "NH 2010 2011 1ft CIR",
   "help": ""
  },
  {
   "name": "NH 2011 NAIP CIR",
   "description": "NH 2011 NAIP CIR",
   "help": ""
  },
  {
   "name": "NH 2011 NAIP RGB",
   "description": "NH 2011 NAIP RGB",
   "help": ""
  },
  {
   "name": "NH 2012 NAIP CIR",
   "description": "NH 2012 NAIP CIR",
   "help": ""
  },
  {
   "name": "NH 2012 NAIP RGB",
   "description": "NH 2012 NAIP RGB",
   "help": ""
  },
  {
   "name": "NH 2014 NAIP CIR",
   "description": "NH 2014 NAIP CIR",
   "help": ""
  },
  {
   "name": "NH 2014 NAIP RGB",
   "description": "NH 2014 NAIP RGB",
   "help": ""
  },
  {
   "name": "NH 2015 CIR",
   "description": "NH 2015 CIR",
   "help": ""
  },
  {
   "name": "NH 2015 RGB",
   "description": "NH 2015 RGB",
   "help": ""
  },
  {
   "name": "NH 2016 NAIP CIR",
   "description": "NH 2016 NAIP CIR",
   "help": ""
  },
  {
   "name": "NH 2016 NAIP RGB",
   "description": "NH 2016 NAIP RGB",
   "help": ""
  },
  {
   "name": "NH 2018 NAIP RGB",
   "description": "NH 2018 NAIP RGB",
   "help": ""
  },
  {
   "name": "NH 2021 CIR",
   "description": "NH 2021 CIR",
   "help": ""
  },
  {
   "name": "NH 2021 NAIP",
   "description": "NH 2021 NAIP",
   "help": ""
  },
  {
   "name": "NH 2021 RGB",
   "description": "NH 2021 RGB",
   "help": ""
  },
  {
   "name": "RGB_Default",
   "description": "RGB Color",
   "help": ""
  },
  {
   "name": "RGB_Default",
   "description": "RGB Color",
   "help": ""
  },
  {
   "name": "None",
   "description": "",
   "help": ""
  }
 ],
 "rasterTypeInfos": [
  {
   "name": "Raster Dataset",
   "description": "Supports all ArcGIS Raster Datasets",
   "help": ""
  }
 ],
 "mensurationCapabilities": "Basic",
 "hasHistograms": true,
 "hasColormap": false,
 "hasRasterAttributeTable": false,
 "minScale": 0,
 "maxScale": 0,
 "exportTilesAllowed": false,
 "supportsStatistics": false,
 "supportsAdvancedQueries": false,
 "editFieldsInfo": null,
 "ownershipBasedAccessControlForRasters": null,
 "allowComputeTiePoints": false,
 "useStandardizedQueries": true,
 "advancedQueryCapabilities": {
  "useStandardizedQueries": true,
  "supportsStatistics": false,
  "supportsOrderBy": false,
  "supportsDistinct": false,
  "supportsPagination": false
 },
 "spatialReference": {
  "wkid": 103104,
  "latestWkid": 6525,
  "vcsWkid": 105703,
  "latestVcsWkid": 6360
 }
}
