{
 "currentVersion": 11.4,
 "serviceDescription": "ImageServices/NH_NED_2011_HS",
 "name": "ImageServices/NH_NED_2011_HS",
 "description": "",
 "extent": {
  "xmin": 745473.875,
  "ymin": 72029.90666666673,
  "xmax": 1242047.567389766,
  "ymax": 1023284.9114669702,
  "spatialReference": {
   "wkid": 102710,
   "latestWkid": 3437
  }
 },
 "initialExtent": {
  "xmin": 745473.875,
  "ymin": 72029.90666666673,
  "xmax": 1242047.567389766,
  "ymax": 1023284.9114669702,
  "spatialReference": {
   "wkid": 102710,
   "latestWkid": 3437
  }
 },
 "fullExtent": {
  "xmin": 745473.875,
  "ymin": 72029.90666666673,
  "xmax": 1242047.567389766,
  "ymax": 1023284.9114669702,
  "spatialReference": {
   "wkid": 102710,
   "latestWkid": 3437
  }
 },
 "sortableFields": "",
 "bandCount": 1,
 "pixelType": "U8",
 "minValues": [
  0
 ],
 "maxValues": [
  254
 ],
 "meanValues": [
  176.850175532
 ],
 "stdvValues": [
  23.353219622541
 ],
 "hasMultidimensions": false,
 "pixelSizeX": 87.64096229964102,
 "pixelSizeY": 87.640962299641,
 "meanPixelSize": 26.713018734968056,
 "datasetFormat": "IMAGINE Image",
 "uncompressedSize": 61498764,
 "blockWidth": 64,
 "blockHeight": 64,
 "compressionType": "RLE",
 "bandNames": [
  "Layer_1"
 ],
 "allowCopy": true,
 "allowAnalysis": true,
 "itemAccess": false,
 "inspectionCapabilities": "",
 "noDataValue": 255,
 "noDataValues": [
  255
 ],
 "minPixelSize": 0,
 "maxPixelSize": 0,
 "copyrightText": "",
 "serviceDataType": "esriImageServiceDataTypeGeneric",
 "serviceSourceType": "esriImageServiceSourceTypeDataset",
 "objectIdField": "",
 "fields": [],
 "capabilities": "Image,Metadata,Mensuration",
 "defaultMosaicMethod": "Center",
 "allowedMosaicMethods": "",
 "sortField": "",
 "sortValue": null,
 "sortAscending": true,
 "mosaicOperator": "First",
 "defaultCompressionQuality": 75,
 "defaultResamplingMethod": "Bilinear",
 "maxImageHeight": 4100,
 "maxImageWidth": 15000,
 "allowRasterFunction": true,
 "rasterFunctionInfos": [
  {
   "name": "None",
   "description": "",
   "help": ""
  }
 ],
 "rasterTypeInfos": [
  {
   "name": "Raster Dataset",
   "description": "Supports all ArcGIS Raster Datasets",
   "help": ""
  }
 ],
 "mensurationCapabilities": "Basic",
 "hasHistograms": true,
 "hasColormap": false,
 "hasRasterAttributeTable": true,
 "minScale": 0,
 "maxScale": 0,
 "exportTilesAllowed": false,
 "supportsStatistics": false,
 "supportsAdvancedQueries": false,
 "editFieldsInfo": null,
 "ownershipBasedAccessControlForRasters": null,
 "allowComputeTiePoints": false,
 "useStandardizedQueries": true,
 "advancedQueryCapabilities": {
  "useStandardizedQueries": true,
  "supportsStatistics": false,
  "supportsOrderBy": false,
  "supportsDistinct": false,
  "supportsPagination": false
 },
 "spatialReference": {
  "wkid": 102710,
  "latestWkid": 3437
 }
}
