{ "currentVersion": 11.4, "serviceDescription": "
This data set represents a 2-meter resolution LiDAR-derived normalized Digital Surface Model (nDSM) or Canopy Height Model (CHM) for New Hampshire. It was derived from a statewide LAS Dataset which comprised 8 separate LiDAR collections that covered the state as of January, 2020. The LAS Dataset was used as input to the ArcGIS \"LAS Dataset to Raster\" geoprocessing tool which converted the LAS first return values to raster values in the output data set. Subsequent processing subtracted the corresponding \"bare earth\" surface values to produce estimated feature height. It is recognized that this is a simplistic approach to the challenge of estimating LiDAR-based first return heights. Users should recognize this and keep it in mind when using the data. In some areas, users may notice unusual linear edges which appear unlikely or anomalous. The LiDAR vendor explained that these anomalies may be the result of changes in the degrees of tree canopy closure that occurred between the times adjacent flight lines were completed. Although leaf-off conditions were specified for data collection, strict adherence to the project specifications was not possible in all locations and exceptions occurred in order to complete data acquisition in a timely manner. As a result, abrupt discontinuities may be noticeable where data were collected on different dates. Eamples of these anomalies can be found in the areas of Cave Mountain in Bartlett and to the west of Woodstock.<\/SPAN><\/P><\/DIV><\/DIV>",
"name": "ImageServices/nDSM_NH",
"description": " This data set represents a 2-meter resolution LiDAR-derived normalized Digital Surface Model (nDSM) or Canopy Height Model (CHM) for New Hampshire. It was derived from a statewide LAS Dataset which comprised 8 separate LiDAR collections that covered the state as of January, 2020. The LAS Dataset was used as input to the ArcGIS \"LAS Dataset to Raster\" geoprocessing tool which converted the LAS first return values to raster values in the output data set. Subsequent processing subtracted the corresponding \"bare earth\" surface values to produce estimated feature height. It is recognized that this is a simplistic approach to the challenge of estimating LiDAR-based first return heights. Users should recognize this and keep it in mind when using the data. In some areas, users may notice unusual linear edges which appear unlikely or anomalous. The LiDAR vendor explained that these anomalies may be the result of changes in the degrees of tree canopy closure that occurred between the times adjacent flight lines were completed. Although leaf-off conditions were specified for data collection, strict adherence to the project specifications was not possible in all locations and exceptions occurred in order to complete data acquisition in a timely manner. As a result, abrupt discontinuities may be noticeable where data were collected on different dates. Eamples of these anomalies can be found in the areas of Cave Mountain in Bartlett and to the west of Woodstock.<\/SPAN><\/P><\/DIV><\/DIV>",
"extent": {
"xmin": 208335.85242963792,
"ymin": 4729191.274951745,
"xmax": 361867.8524296379,
"ymax": 5020367.274951745,
"spatialReference": {
"wkid": 26919,
"latestWkid": 26919,
"vcsWkid": 5703,
"latestVcsWkid": 5703
}
},
"initialExtent": {
"xmin": 208335.85242963792,
"ymin": 4729191.274951745,
"xmax": 361867.8524296379,
"ymax": 5020367.274951745,
"spatialReference": {
"wkid": 26919,
"latestWkid": 26919,
"vcsWkid": 5703,
"latestVcsWkid": 5703
}
},
"fullExtent": {
"xmin": 208335.85242963792,
"ymin": 4729191.274951745,
"xmax": 361867.8524296379,
"ymax": 5020367.274951745,
"spatialReference": {
"wkid": 26919,
"latestWkid": 26919,
"vcsWkid": 5703,
"latestVcsWkid": 5703
}
},
"sortableFields": "",
"heightModelInfo": {
"heightModel": "gravity_related_height",
"vertCRS": "NAVD_1988",
"heightUnit": "meter"
},
"bandCount": 1,
"pixelType": "F32",
"minValues": [
-9.9857068391884E-8
],
"maxValues": [
1936.8258056641
],
"meanValues": [
5.6642534738407
],
"stdvValues": [
5.85671786086
],
"hasMultidimensions": false,
"pixelSizeX": 2,
"pixelSizeY": 2,
"meanPixelSize": 2,
"datasetFormat": "IMAGINE Image",
"uncompressedSize": 44704833632,
"blockWidth": 64,
"blockHeight": 64,
"compressionType": "None",
"bandNames": [
"Layer_1"
],
"allowCopy": true,
"allowAnalysis": true,
"itemAccess": false,
"inspectionCapabilities": "",
"noDataValue": -3.4028234663852886E38,
"noDataValues": [
-3.4028234663852886E38
],
"minPixelSize": 0,
"maxPixelSize": 0,
"copyrightText": "NH GRANIT LiDAR-Derived Normalized Digital Surface Model - NH (nDSM), 2020, Earth System Research Center, University of NH (http://www.granit.unh.edu)",
"serviceDataType": "esriImageServiceDataTypeGeneric",
"serviceSourceType": "esriImageServiceSourceTypeDataset",
"objectIdField": "",
"fields": [],
"capabilities": "Image,Metadata,Mensuration",
"defaultMosaicMethod": "Center",
"allowedMosaicMethods": "",
"sortField": "",
"sortValue": null,
"sortAscending": true,
"mosaicOperator": "First",
"defaultCompressionQuality": 75,
"defaultResamplingMethod": "Bilinear",
"maxImageHeight": 4100,
"maxImageWidth": 15000,
"allowRasterFunction": true,
"rasterFunctionInfos": [
{
"name": "None",
"description": "",
"help": ""
}
],
"rasterTypeInfos": [
{
"name": "Raster Dataset",
"description": "Supports all ArcGIS Raster Datasets",
"help": ""
}
],
"mensurationCapabilities": "Basic",
"hasHistograms": true,
"hasColormap": false,
"hasRasterAttributeTable": false,
"minScale": 0,
"maxScale": 0,
"exportTilesAllowed": false,
"supportsStatistics": false,
"supportsAdvancedQueries": false,
"editFieldsInfo": null,
"ownershipBasedAccessControlForRasters": null,
"allowComputeTiePoints": false,
"useStandardizedQueries": true,
"advancedQueryCapabilities": {
"useStandardizedQueries": true,
"supportsStatistics": false,
"supportsOrderBy": false,
"supportsDistinct": false,
"supportsPagination": false
},
"spatialReference": {
"wkid": 26919,
"latestWkid": 26919,
"vcsWkid": 5703,
"latestVcsWkid": 5703
}
}