View In:
ArcGIS JavaScript
ArcGIS Online Map Viewer
ArcGIS Earth
Service Description: ImageServices/CV_RecreationalBoaterRouteDensity
Name: ImageServices/CV_RecreationalBoaterRouteDensity
Description:
Single Fused Map Cache: false
Extent:
XMin: -78.47892887835242
YMin: 32.32123824427801
XMax: -60.637046452843904
YMax: 47.62991455957992
Spatial Reference: 4269
(4269)
LatestVCSWkid(0)
Initial Extent:
XMin: -78.47892887835242
YMin: 32.32123824427801
XMax: -60.637046452843904
YMax: 47.62991455957992
Spatial Reference: 4269
(4269)
LatestVCSWkid(0)
Full Extent:
XMin: -78.47892887835242
YMin: 32.32123824427801
XMax: -60.637046452843904
YMax: 47.62991455957992
Spatial Reference: 4269
(4269)
LatestVCSWkid(0)
Pixel Size X: 0.0032188133547733206
Pixel Size Y: 0.0032188133547733215
Band Count: 1
Pixel Type: F32
RasterFunction Infos: {"rasterFunctionInfos": [
{
"name": "Recreational Boater Route Density",
"description": "Recreational Boater Activity for CV",
"help": ""
},
{
"name": "None",
"description": "",
"help": ""
}
]}
Mensuration Capabilities: Basic
Inspection Capabilities:
Has Histograms: true
Has Colormap: false
Has Multi Dimensions : false
Rendering Rule:
Min Scale: 0
Max Scale: 0
Copyright Text:
Service Data Type: esriImageServiceDataTypeGeneric
Min Values: -7.976114273071289
Max Values: 3.4088399410247803
Mean Values: 0.0902568223162552
Standard Deviation Values: 0.9964828659978128
Object ID Field:
Fields:
None
Default Mosaic Method: Center
Allowed Mosaic Methods:
SortField:
SortValue: null
Mosaic Operator: First
Default Compression Quality: 75
Default Resampling Method: Bilinear
Max Record Count: null
Max Image Height: 4100
Max Image Width: 15000
Max Download Image Count: null
Max Mosaic Image Count: null
Allow Raster Function: true
Allow Copy: true
Allow Analysis: true
Allow Compute TiePoints: false
Supports Statistics: false
Supports Advanced Queries: false
Use StandardizedQueries: true
Raster Type Infos:
Name: Raster Dataset
Description: Supports all ArcGIS Raster Datasets
Help:
Has Raster Attribute Table: false
Edit Fields Info: null
Ownership Based AccessControl For Rasters: null
Child Resources:
Info
Histograms
Statistics
Key Properties
Legend
Raster Function Infos
Supported Operations:
Export Image
Identify
Measure
Compute Histograms
Compute Statistics Histograms
Get Samples
Compute Class Statistics
Query Boundary
Compute Pixel Location
Compute Angles
Validate
Project