View In:
ArcGIS JavaScript
ArcGIS Online Map Viewer
ArcGIS Earth
Service Description: This data set represents a 2-meter resolution LiDAR first return surface or Digital Surface Model (DSM) for New Hampshire. It was derived from a statewide LAS Dataset which comprised 8 separate LiDAR collections that covered the state as of January, 2020. The LAS Dataset was used as input to the ArcGIS "LAS Dataset to Raster" geoprocessing tool which converted the LAS first return values to raster values in the output data set. In some areas, users may notice unusual linear edges which appear unlikely or anomalous. The LiDAR vendor explained that these anomalies may be the result of changes in the degrees of tree canopy closure that occurred between the times adjacent flight lines were completed. Although leaf-off conditions were specified for data collection, strict adherence to the project specifications was not possible in all locations and exceptions occurred in order to complete data acquisition in a timely manner. As a result, abrupt discontinuities may be noticeable where data were collected on different dates. Eamples of these anomalies can be found in the areas of Cave Mountain in Bartlett and to the west of Woodstock.
Name: ImageServices/DSM_NH
Description: This data set represents a 2-meter resolution LiDAR first return surface or Digital Surface Model (DSM) for New Hampshire. It was derived from a statewide LAS Dataset which comprised 8 separate LiDAR collections that covered the state as of January, 2020. The LAS Dataset was used as input to the ArcGIS "LAS Dataset to Raster" geoprocessing tool which converted the LAS first return values to raster values in the output data set. In some areas, users may notice unusual linear edges which appear unlikely or anomalous. The LiDAR vendor explained that these anomalies may be the result of changes in the degrees of tree canopy closure that occurred between the times adjacent flight lines were completed. Although leaf-off conditions were specified for data collection, strict adherence to the project specifications was not possible in all locations and exceptions occurred in order to complete data acquisition in a timely manner. As a result, abrupt discontinuities may be noticeable where data were collected on different dates. Eamples of these anomalies can be found in the areas of Cave Mountain in Bartlett and to the west of Woodstock.
Single Fused Map Cache: false
Extent:
XMin: 208801.85242963792
YMin: 4729189.274951745
XMax: 361867.8524296379
YMax: 5020367.274951745
Spatial Reference: 26919
(26919)
VCSWkid(5703)
LatestVCSWkid(5703)
Initial Extent:
XMin: 208801.85242963792
YMin: 4729189.274951745
XMax: 361867.8524296379
YMax: 5020367.274951745
Spatial Reference: 26919
(26919)
VCSWkid(5703)
LatestVCSWkid(5703)
Full Extent:
XMin: 208801.85242963792
YMin: 4729189.274951745
XMax: 361867.8524296379
YMax: 5020367.274951745
Spatial Reference: 26919
(26919)
VCSWkid(5703)
LatestVCSWkid(5703)
Pixel Size X: 2.0
Pixel Size Y: 2.0
Band Count: 1
Pixel Type: F32
RasterFunction Infos: {"rasterFunctionInfos": [{
"name": "None",
"description": "",
"help": ""
}]}
Mensuration Capabilities: Basic
Inspection Capabilities:
Has Histograms: true
Has Colormap: false
Has Multi Dimensions : false
Rendering Rule:
Min Scale: 0
Max Scale: 0
Copyright Text: NH GRANIT LiDAR-Derived Digital Surface Model - NH (DSM), 2020, Earth System Research Center, University of NH (http://www.granit.unh.edu)
Service Data Type: esriImageServiceDataTypeGeneric
Min Values: 0
Max Values: 2034.46875
Mean Values: 347.91115450276
Standard Deviation Values: 225.75221591028
Object ID Field:
Fields:
None
Default Mosaic Method: Center
Allowed Mosaic Methods:
SortField:
SortValue: null
Mosaic Operator: First
Default Compression Quality: 75
Default Resampling Method: Bilinear
Max Record Count: null
Max Image Height: 4100
Max Image Width: 15000
Max Download Image Count: null
Max Mosaic Image Count: null
Allow Raster Function: true
Allow Copy: true
Allow Analysis: true
Allow Compute TiePoints: false
Supports Statistics: false
Supports Advanced Queries: false
Use StandardizedQueries: true
Raster Type Infos:
Name: Raster Dataset
Description: Supports all ArcGIS Raster Datasets
Help:
Has Raster Attribute Table: false
Edit Fields Info: null
Ownership Based AccessControl For Rasters: null
Child Resources:
Info
Histograms
Statistics
Key Properties
Legend
Raster Function Infos
Supported Operations:
Export Image
Identify
Measure
Compute Histograms
Compute Statistics Histograms
Get Samples
Compute Class Statistics
Query Boundary
Compute Pixel Location
Compute Angles
Validate
Project