View In:
ArcGIS JavaScript
ArcGIS Online Map Viewer
ArcGIS Earth
Service Description: ImageServices/NH_NAIP_2008_RGB
Name: ImageServices/NH_NAIP_2008_RGB
Description:
Single Fused Map Cache: false
Extent:
XMin: 744463.5399204999
YMin: 67833.55645450007
XMax: 1245715.7673264998
YMax: 1025685.8741365001
Spatial Reference: 102710
(3437)
LatestVCSWkid(0)
Initial Extent:
XMin: 744463.5399204999
YMin: 67833.55645450007
XMax: 1245715.7673264998
YMax: 1025685.8741365001
Spatial Reference: 102710
(3437)
LatestVCSWkid(0)
Full Extent:
XMin: 744463.5399204999
YMin: 67833.55645450007
XMax: 1245715.7673264998
YMax: 1025685.8741365001
Spatial Reference: 102710
(3437)
LatestVCSWkid(0)
Pixel Size X: 3.2808329999999994
Pixel Size Y: 3.280833
Band Count: 3
Pixel Type: U8
RasterFunction Infos: {"rasterFunctionInfos": [{
"name": "None",
"description": "",
"help": ""
}]}
Mensuration Capabilities: Basic
Inspection Capabilities:
Has Histograms: true
Has Colormap: false
Has Multi Dimensions : false
Rendering Rule:
Min Scale: 0
Max Scale: 0
Copyright Text:
Service Data Type: esriImageServiceDataTypeRGB
Min Values: 12, 25, 20
Max Values: 240, 237, 230
Mean Values: 56.078612452628, 90.76784641085, 64.127708397834
Standard Deviation Values: 26.292656521536, 24.161537431332, 17.395718201045
Object ID Field:
Fields:
None
Default Mosaic Method: Center
Allowed Mosaic Methods:
SortField:
SortValue: null
Mosaic Operator: First
Default Compression Quality: 75
Default Resampling Method: Bilinear
Max Record Count: null
Max Image Height: 4100
Max Image Width: 15000
Max Download Image Count: null
Max Mosaic Image Count: null
Allow Raster Function: true
Allow Copy: true
Allow Analysis: true
Allow Compute TiePoints: false
Supports Statistics: false
Supports Advanced Queries: false
Use StandardizedQueries: true
Raster Type Infos:
Name: Raster Dataset
Description: Supports all ArcGIS Raster Datasets
Help:
Has Raster Attribute Table: false
Edit Fields Info: null
Ownership Based AccessControl For Rasters: null
Child Resources:
Info
Histograms
Statistics
Key Properties
Legend
Raster Function Infos
Supported Operations:
Export Image
Identify
Measure
Compute Histograms
Compute Statistics Histograms
Get Samples
Compute Class Statistics
Query Boundary
Compute Pixel Location
Compute Angles
Validate
Project