View In:
ArcGIS JavaScript
ArcGIS Online Map Viewer
ArcGIS Earth
Service Description: ImageServices/NH_NAIP_2009_RGB
Name: ImageServices/NH_NAIP_2009_RGB
Description:
Single Fused Map Cache: false
Extent:
XMin: 744763.2236752033
YMin: 67768.65958322305
XMax: 1276751.060023322
YMax: 1025734.8833602578
Spatial Reference: 102710
(3437)
LatestVCSWkid(0)
Initial Extent:
XMin: 744763.2236752033
YMin: 67768.65958322305
XMax: 1276751.060023322
YMax: 1025734.8833602578
Spatial Reference: 102710
(3437)
LatestVCSWkid(0)
Full Extent:
XMin: 744763.2236752033
YMin: 67768.65958322305
XMax: 1276751.060023322
YMax: 1025734.8833602578
Spatial Reference: 102710
(3437)
LatestVCSWkid(0)
Pixel Size X: 3.363243937791959
Pixel Size Y: 3.363243937791959
Band Count: 3
Pixel Type: U8
RasterFunction Infos: {"rasterFunctionInfos": [
{
"name": "NAIP 2009 RGB",
"description": "2009 NAIP",
"help": ""
},
{
"name": "None",
"description": "",
"help": ""
}
]}
Mensuration Capabilities: Basic
Inspection Capabilities:
Has Histograms: true
Has Colormap: false
Has Multi Dimensions : false
Rendering Rule:
Min Scale: 0
Max Scale: 0
Copyright Text:
Service Data Type: esriImageServiceDataTypeRGB
Min Values: 1, 1, 1
Max Values: 255, 255, 255
Mean Values: 116.8287815808, 124.02052503957, 118.80318226802
Standard Deviation Values: 43.730430332029, 42.452287899274, 35.22721546387
Object ID Field:
Fields:
None
Default Mosaic Method: Center
Allowed Mosaic Methods:
SortField:
SortValue: null
Mosaic Operator: First
Default Compression Quality: 75
Default Resampling Method: Bilinear
Max Record Count: null
Max Image Height: 4100
Max Image Width: 15000
Max Download Image Count: null
Max Mosaic Image Count: null
Allow Raster Function: true
Allow Copy: true
Allow Analysis: true
Allow Compute TiePoints: false
Supports Statistics: false
Supports Advanced Queries: false
Use StandardizedQueries: true
Raster Type Infos:
Name: Raster Dataset
Description: Supports all ArcGIS Raster Datasets
Help:
Has Raster Attribute Table: false
Edit Fields Info: null
Ownership Based AccessControl For Rasters: null
Child Resources:
Info
Histograms
Statistics
Key Properties
Legend
Raster Function Infos
Supported Operations:
Export Image
Identify
Measure
Compute Histograms
Compute Statistics Histograms
Get Samples
Compute Class Statistics
Query Boundary
Compute Pixel Location
Compute Angles
Validate
Project