View In:
ArcGIS JavaScript
ArcGIS Online Map Viewer
ArcGIS Earth
Service Description: ImageServices/Southeast_LiDAR_HS
Name: ImageServices/Southeast_LiDAR_HS
Description:
Single Fused Map Cache: false
Extent:
XMin: 1050235.3974787612
YMin: 65542.64849228194
XMax: 1274486.9174787612
YMax: 325043.44182561524
Spatial Reference: 102710
(3437)
LatestVCSWkid(0)
Initial Extent:
XMin: 1050235.3974787612
YMin: 65542.64849228194
XMax: 1274486.9174787612
YMax: 325043.44182561524
Spatial Reference: 102710
(3437)
LatestVCSWkid(0)
Full Extent:
XMin: 1050235.3974787612
YMin: 65542.64849228194
XMax: 1274486.9174787612
YMax: 325043.44182561524
Spatial Reference: 102710
(3437)
LatestVCSWkid(0)
Pixel Size X: 6.561666666666667
Pixel Size Y: 6.561666666666666
Band Count: 1
Pixel Type: U8
RasterFunction Infos: {"rasterFunctionInfos": [{
"name": "None",
"description": "",
"help": ""
}]}
Mensuration Capabilities: Basic
Inspection Capabilities:
Has Histograms: true
Has Colormap: false
Has Multi Dimensions : false
Rendering Rule:
Min Scale: 0
Max Scale: 0
Copyright Text:
Service Data Type: esriImageServiceDataTypeGeneric
Min Values: 0
Max Values: 254
Mean Values: 177.95317842549267
Standard Deviation Values: 14.72423750115901
Object ID Field:
Fields:
None
Default Mosaic Method: Center
Allowed Mosaic Methods:
SortField:
SortValue: null
Mosaic Operator: First
Default Compression Quality: 75
Default Resampling Method: Bilinear
Max Record Count: null
Max Image Height: 4100
Max Image Width: 15000
Max Download Image Count: null
Max Mosaic Image Count: null
Allow Raster Function: true
Allow Copy: true
Allow Analysis: true
Allow Compute TiePoints: false
Supports Statistics: false
Supports Advanced Queries: false
Use StandardizedQueries: true
Raster Type Infos:
Name: Raster Dataset
Description: Supports all ArcGIS Raster Datasets
Help:
Has Raster Attribute Table: false
Edit Fields Info: null
Ownership Based AccessControl For Rasters: null
Child Resources:
Info
Histograms
Statistics
Key Properties
Legend
Raster Function Infos
Supported Operations:
Export Image
Identify
Measure
Compute Histograms
Compute Statistics Histograms
Get Samples
Compute Class Statistics
Query Boundary
Compute Pixel Location
Compute Angles
Validate
Project