View In:
ArcGIS JavaScript
ArcGIS Online Map Viewer
ArcGIS Earth
ArcGIS Pro
Service Description: This data set represents smoothed, 2-foot bare earth contours (isolines) for the West (01080107) HUC 8 unit. It was derived from a data set which was compiled from LIDAR collections in NH available as of spring, 2019. The raster was filtered using the ArcGIS FOCAL STATISTICS tool with a 3x3 circular neighborhood. The contours were generated using the ArcGIS CONTOUR tool while applying a Z factor of 3.2808 to convert the elevation values from meters to feet. The filtered contours were then smoothed using the ArcGIS SMOOTH LINE tool. The data include an INDEX field with values of 10 and 100 to flag 10 and 100-foot contours. When viewed using this service, contours become visible at scales greater than 1:10,000.
Map Name: LiDAR_Contours_2ft_01080107_smooth_cached
Legend
All Layers and Tables
Dynamic Legend
Dynamic All Layers
Layers:
Description: This data set represents smoothed, 2-foot bare earth contours (isolines) for the West (01080107) HUC 8 unit. It was derived from a data set which was compiled from LIDAR collections in NH available as of spring, 2019. The raster was filtered using the ArcGIS FOCAL STATISTICS tool with a 3x3 circular neighborhood. The contours were generated using the ArcGIS CONTOUR tool while applying a Z factor of 3.2808 to convert the elevation values from meters to feet. The filtered contours were then smoothed using the ArcGIS SMOOTH LINE tool. The data include an INDEX field with values of 10 and 100 to flag 10 and 100-foot contours. When viewed using this service, contours become visible at scales greater than 1:10,000.
Service Item Id: 27da0c75395245cab84a82aa6a6f638a
Copyright Text:
Spatial Reference:
102100
(3857)
LatestVCSWkid(0)
Single Fused Map Cache: true
Tile Info:
- Height: 256
- Width: 256
- DPI: 96
-
Levels of Detail: 24
-
Level ID: 1
[ Start Tile, End Tile ]
- Resolution: 78271.5169639999
- Scale: 2.95828763795777E8
-
Level ID: 2
[ Start Tile, End Tile ]
- Resolution: 39135.7584820001
- Scale: 1.47914381897889E8
-
Level ID: 3
[ Start Tile, End Tile ]
- Resolution: 19567.8792409999
- Scale: 7.3957190948944E7
-
Level ID: 4
[ Start Tile, End Tile ]
- Resolution: 9783.93962049996
- Scale: 3.6978595474472E7
-
Level ID: 5
[ Start Tile, End Tile ]
- Resolution: 4891.96981024998
- Scale: 1.8489297737236E7
- Format: PNG
- Compression Quality: 0.0
- Origin: X: -2.0037508342787E7
Y: 2.0037508342787E7
- Spatial Reference: 102100
(3857)
LatestVCSWkid(0)
Storage Info:
- Storage Format: esriMapCacheStorageModeCompactV2
- Packet Size: 128
Initial Extent:
XMin: -8137040.962829038
YMin: 5248001.497994274
XMax: -7972830.401544121
YMax: 5388492.755982481
Spatial Reference: 102100
(0)
LatestVCSWkid(0)
Full Extent:
XMin: -8077758.452799903
YMin: 5277101.670004729
XMax: -8032112.911573255
YMax: 5359392.583972027
Spatial Reference: 102100
(0)
LatestVCSWkid(0)
Units: esriMeters
Supported Image Format Types: PNG32,PNG24,PNG,JPG,DIB,TIFF,EMF,PS,PDF,GIF,SVG,SVGZ,BMP
Document Info:
Title: 2-foot Contours
Author:
Comments: This data set represents smoothed, 2-foot bare earth contours (isolines) for the West (01080107) HUC 8 unit. It was derived from a data set which was compiled from LIDAR collections in NH available as of spring, 2019. The raster was filtered using the ArcGIS FOCAL STATISTICS tool with a 3x3 circular neighborhood. The contours were generated using the ArcGIS CONTOUR tool while applying a Z factor of 3.2808 to convert the elevation values from meters to feet. The filtered contours were then smoothed using the ArcGIS SMOOTH LINE tool. The data include an INDEX field with values of 10 and 100 to flag 10 and 100-foot contours. When viewed using this service, contours become visible at scales greater than 1:10,000.
Subject: These contours connect points of equal elevation at 2-foot intervals, and are one of a suite of topographic datasets available from NH GRANIT.
Category:
Keywords: Elevation,Contours,Hypsography,LiDAR,West 01080107,NH GRANIT
AntialiasingMode: Fast
TextAntialiasingMode: Force
Supports Dynamic Layers: true
MaxRecordCount: 2000
MaxSelectionCount: 2000
MaxImageHeight: 4096
MaxImageWidth: 4096
Supported Query Formats: JSON, geoJSON, PBF
Supports Query Data Elements: true
Min Scale: 2311162.217155
Max Scale: 141.062147
Min LOD: 8
Max LOD: 22
Supports Datum Transformation: true
Child Resources:
Info
Dynamic Layer
Supported Operations:
Export Map
Identify
QueryLegends
QueryDomains
Find
Return Updates