View In:
ArcGIS JavaScript
ArcGIS Online Map Viewer
ArcGIS Earth
Service Description: Dataset created using "Mosaic to new Raster" and combining Regional_DOQs_92, Regional_DOQs_95, and Regional_DOQs_98 mosaic datasets (in that order so that the 98 data overwrites the others).
Name: ImageServices/NH_DOQs_92_98
Description: Dataset created using "Mosaic to new Raster" and combining Regional_DOQs_92, Regional_DOQs_95, and Regional_DOQs_98 mosaic datasets (in that order so that the 98 data overwrites the others).
Single Fused Map Cache: false
Extent:
XMin: 743756.9310000022
YMin: 68362.69600000558
XMax: 1280065.9099999988
YMax: 1025817.5539999992
Spatial Reference: 102710
(3437)
LatestVCSWkid(0)
Initial Extent:
XMin: 743756.9310000022
YMin: 68362.69600000558
XMax: 1280065.9099999988
YMax: 1025817.5539999992
Spatial Reference: 102710
(3437)
LatestVCSWkid(0)
Full Extent:
XMin: 743756.9310000022
YMin: 68362.69600000558
XMax: 1280065.9099999988
YMax: 1025817.5539999992
Spatial Reference: 102710
(3437)
LatestVCSWkid(0)
Pixel Size X: 3.280999999999979
Pixel Size Y: 3.280999999999978
Band Count: 1
Pixel Type: U8
RasterFunction Infos: {"rasterFunctionInfos": [{
"name": "None",
"description": "",
"help": ""
}]}
Mensuration Capabilities: Basic
Inspection Capabilities:
Has Histograms: true
Has Colormap: false
Has Multi Dimensions : false
Rendering Rule:
Min Scale: 0
Max Scale: 0
Copyright Text:
Service Data Type: esriImageServiceDataTypeGeneric
Min Values: 0
Max Values: 255
Mean Values: 102.9596877954847
Standard Deviation Values: 39.61700138845594
Object ID Field:
Fields:
None
Default Mosaic Method: Center
Allowed Mosaic Methods:
SortField:
SortValue: null
Mosaic Operator: First
Default Compression Quality: 75
Default Resampling Method: Bilinear
Max Record Count: null
Max Image Height: 4100
Max Image Width: 15000
Max Download Image Count: null
Max Mosaic Image Count: null
Allow Raster Function: true
Allow Copy: true
Allow Analysis: true
Allow Compute TiePoints: false
Supports Statistics: false
Supports Advanced Queries: false
Use StandardizedQueries: true
Raster Type Infos:
Name: Raster Dataset
Description: Supports all ArcGIS Raster Datasets
Help:
Has Raster Attribute Table: false
Edit Fields Info: null
Ownership Based AccessControl For Rasters: null
Child Resources:
Info
Histograms
Statistics
Key Properties
Legend
Raster Function Infos
Supported Operations:
Export Image
Identify
Measure
Compute Histograms
Compute Statistics Histograms
Get Samples
Compute Class Statistics
Query Boundary
Compute Pixel Location
Compute Angles
Validate
Project